
BEGIN:VCALENDAR
VERSION:2.0
PRODID:-//BRC/Website//NONSGML v1.0//EN
BEGIN:VEVENT
UID:
DTSTAMP:20260414T215330
DTSTART:20260425T180000

DTEND:20260425T190000

SUMMARY:Jugendgottesdienst mit den FirmandenInnen aus Ettingen und Oberwil

LOCATION:Katholische Kirche

END:VEVENT
END:VCALENDAR
