
BEGIN:VCALENDAR
VERSION:2.0
PRODID:-//BRC/Website//NONSGML v1.0//EN
BEGIN:VEVENT
UID:
DTSTAMP:20260414T121956
DTSTART:20260612T174500

DTEND:20260612T230000

SUMMARY:35. und letzte Generalversammlung

LOCATION:Guggerhuus

END:VEVENT
END:VCALENDAR
