
BEGIN:VCALENDAR
VERSION:2.0
PRODID:-//BRC/Website//NONSGML v1.0//EN
BEGIN:VEVENT
UID:
DTSTAMP:20260422T003359
DTSTART:20260507T073000

DTEND:20260507T190000

SUMMARY:Wanderung zum Ohmstal

LOCATION:Albertswil - Ohmstal - Nebikon

END:VEVENT
END:VCALENDAR
